BEGIN:VCALENDAR
VERSION:2.0
PRODID:-//Seafarers International Union - ECPv5.2.1//NONSGML v1.0//EN
CALSCALE:GREGORIAN
METHOD:PUBLISH
X-WR-CALNAME:Seafarers International Union
X-ORIGINAL-URL:https://www.seafarers.org
X-WR-CALDESC:Events for Seafarers International Union
BEGIN:VTIMEZONE
TZID:America/Halifax
BEGIN:DAYLIGHT
TZOFFSETFROM:-0400
TZOFFSETTO:-0300
TZNAME:ADT
DTSTART:20200308T060000
END:DAYLIGHT
BEGIN:STANDARD
TZOFFSETFROM:-0300
TZOFFSETTO:-0400
TZNAME:AST
DTSTART:20201101T050000
END:STANDARD
END:VTIMEZONE
BEGIN:VEVENT
DTSTART;TZID=America/Halifax:20201116T103000
DTEND;TZID=America/Halifax:20201116T113000
DTSTAMP:20201116T032804
CREATED:20191106T214258Z
LAST-MODIFIED:20191106T214258Z
UID:20860-1605522600-1605526200@www.seafarers.org
SUMMARY:Wilmington
DESCRIPTION:
URL:https://www.seafarers.org/meeting/wilmington-25/
END:VEVENT
BEGIN:VEVENT
DTSTART;TZID=America/Halifax:20201119T103000
DTEND;TZID=America/Halifax:20201119T113000
DTSTAMP:20201116T032804
CREATED:20191106T214335Z
LAST-MODIFIED:20191106T214335Z
UID:20861-1605781800-1605785400@www.seafarers.org
SUMMARY:Guam
DESCRIPTION:
URL:https://www.seafarers.org/meeting/guam-25/
END:VEVENT
BEGIN:VEVENT
DTSTART;TZID=America/Halifax:20201120T103000
DTEND;TZID=America/Halifax:20201120T113000
DTSTAMP:20201116T032804
CREATED:20191106T214403Z
LAST-MODIFIED:20191106T214403Z
UID:20862-1605868200-1605871800@www.seafarers.org
SUMMARY:Tacoma
DESCRIPTION:
URL:https://www.seafarers.org/meeting/tacoma-25/
END:VEVENT
BEGIN:VEVENT
DTSTART;TZID=America/Halifax:20201207T103000
DTEND;TZID=America/Halifax:20201207T113000
DTSTAMP:20201116T032804
CREATED:20191106T214436Z
LAST-MODIFIED:20191106T214436Z
UID:20863-1607337000-1607340600@www.seafarers.org
SUMMARY:Piney Point
DESCRIPTION:
URL:https://www.seafarers.org/meeting/piney-point-24/
END:VEVENT
BEGIN:VEVENT
DTSTART;TZID=America/Halifax:20201208T103000
DTEND;TZID=America/Halifax:20201208T113000
DTSTAMP:20201116T032804
CREATED:20191106T214502Z
LAST-MODIFIED:20191106T214502Z
UID:20864-1607423400-1607427000@www.seafarers.org
SUMMARY:Jersey City
DESCRIPTION:
URL:https://www.seafarers.org/meeting/jersey-city-24/
END:VEVENT
BEGIN:VEVENT
DTSTART;TZID=America/Halifax:20201209T103000
DTEND;TZID=America/Halifax:20201209T113000
DTSTAMP:20201116T032804
CREATED:20191106T214529Z
LAST-MODIFIED:20191106T214529Z
UID:20865-1607509800-1607513400@www.seafarers.org
SUMMARY:Philadelphia
DESCRIPTION:
URL:https://www.seafarers.org/meeting/philadelphia-26/
END:VEVENT
BEGIN:VEVENT
DTSTART;TZID=America/Halifax:20201210T103000
DTEND;TZID=America/Halifax:20201210T113000
DTSTAMP:20201116T032804
CREATED:20191106T214558Z
LAST-MODIFIED:20191106T214558Z
UID:20866-1607596200-1607599800@www.seafarers.org
SUMMARY:Baltimore
DESCRIPTION:
URL:https://www.seafarers.org/meeting/baltimore-26/
END:VEVENT
BEGIN:VEVENT
DTSTART;TZID=America/Halifax:20201210T103000
DTEND;TZID=America/Halifax:20201210T113000
DTSTAMP:20201116T032804
CREATED:20191106T214712Z
LAST-MODIFIED:20191106T214712Z
UID:20868-1607596200-1607599800@www.seafarers.org
SUMMARY:Jacksonville
DESCRIPTION:
URL:https://www.seafarers.org/meeting/jacksonville-26/
END:VEVENT
BEGIN:VEVENT
DTSTART;TZID=America/Halifax:20201210T103000
DTEND;TZID=America/Halifax:20201210T113000
DTSTAMP:20201116T032804
CREATED:20191106T214741Z
LAST-MODIFIED:20191106T214741Z
UID:20869-1607596200-1607599800@www.seafarers.org
SUMMARY:San Juan
DESCRIPTION:
URL:https://www.seafarers.org/meeting/san-juan-26/
END:VEVENT
BEGIN:VEVENT
DTSTART;TZID=America/Halifax:20201211T103000
DTEND;TZID=America/Halifax:20201211T113000
DTSTAMP:20201116T032804
CREATED:20191106T214632Z
LAST-MODIFIED:20200902T183623Z
UID:20867-1607682600-1607686200@www.seafarers.org
SUMMARY:Norfolk
DESCRIPTION:
URL:https://www.seafarers.org/meeting/norfolk-26/
END:VEVENT
BEGIN:VEVENT
DTSTART;TZID=America/Halifax:20201211T103000
DTEND;TZID=America/Halifax:20201211T113000
DTSTAMP:20201116T032804
CREATED:20191106T214809Z
LAST-MODIFIED:20191106T214809Z
UID:20870-1607682600-1607686200@www.seafarers.org
SUMMARY:Algonac
DESCRIPTION:
URL:https://www.seafarers.org/meeting/algonac-26/
END:VEVENT
BEGIN:VEVENT
DTSTART;TZID=America/Halifax:20201214T103000
DTEND;TZID=America/Halifax:20201214T113000
DTSTAMP:20201116T032804
CREATED:20191106T214834Z
LAST-MODIFIED:20191106T214834Z
UID:20871-1607941800-1607945400@www.seafarers.org
SUMMARY:Houston
DESCRIPTION:
URL:https://www.seafarers.org/meeting/houston-26/
END:VEVENT
BEGIN:VEVENT
DTSTART;TZID=America/Halifax:20201215T103000
DTEND;TZID=America/Halifax:20201215T113000
DTSTAMP:20201116T032804
CREATED:20191106T214912Z
LAST-MODIFIED:20191106T214912Z
UID:20872-1608028200-1608031800@www.seafarers.org
SUMMARY:New Orleans
DESCRIPTION:
URL:https://www.seafarers.org/meeting/new-orleans-26/
END:VEVENT
BEGIN:VEVENT
DTSTART;TZID=America/Halifax:20201216T103000
DTEND;TZID=America/Halifax:20201216T113000
DTSTAMP:20201116T032804
CREATED:20191106T214942Z
LAST-MODIFIED:20191106T214942Z
UID:20873-1608114600-1608118200@www.seafarers.org
SUMMARY:Mobile
DESCRIPTION:
URL:https://www.seafarers.org/meeting/mobile-26/
END:VEVENT
BEGIN:VEVENT
DTSTART;TZID=America/Halifax:20201217T103000
DTEND;TZID=America/Halifax:20201217T113000
DTSTAMP:20201116T032804
CREATED:20191106T215018Z
LAST-MODIFIED:20191106T215018Z
UID:20874-1608201000-1608204600@www.seafarers.org
SUMMARY:Oakland
DESCRIPTION:
URL:https://www.seafarers.org/meeting/oakland-26/
END:VEVENT
BEGIN:VEVENT
DTSTART;TZID=America/Halifax:20201217T103000
DTEND;TZID=America/Halifax:20201217T113000
DTSTAMP:20201116T032804
CREATED:20191106T215044Z
LAST-MODIFIED:20191106T215044Z
UID:20875-1608201000-1608204600@www.seafarers.org
SUMMARY:Port Everglades
DESCRIPTION:
URL:https://www.seafarers.org/meeting/port-everglades-26/
END:VEVENT
BEGIN:VEVENT
DTSTART;TZID=America/Halifax:20201217T103000
DTEND;TZID=America/Halifax:20201217T113000
DTSTAMP:20201116T032804
CREATED:20191106T215118Z
LAST-MODIFIED:20191106T215118Z
UID:20876-1608201000-1608204600@www.seafarers.org
SUMMARY:Joliet
DESCRIPTION:
URL:https://www.seafarers.org/meeting/joliet-26/
END:VEVENT
BEGIN:VEVENT
DTSTART;TZID=America/Halifax:20201218T103000
DTEND;TZID=America/Halifax:20201218T113000
DTSTAMP:20201116T032804
CREATED:20191106T215157Z
LAST-MODIFIED:20191106T215157Z
UID:20877-1608287400-1608291000@www.seafarers.org
SUMMARY:St. Louis
DESCRIPTION:
URL:https://www.seafarers.org/meeting/st-louis-26/
END:VEVENT
BEGIN:VEVENT
DTSTART;TZID=America/Halifax:20201218T103000
DTEND;TZID=America/Halifax:20201218T113000
DTSTAMP:20201116T032804
CREATED:20191106T215236Z
LAST-MODIFIED:20191106T215236Z
UID:20878-1608287400-1608291000@www.seafarers.org
SUMMARY:Honolulu
DESCRIPTION:
URL:https://www.seafarers.org/meeting/honolulu-26/
END:VEVENT
BEGIN:VEVENT
DTSTART;TZID=America/Halifax:20201221T103000
DTEND;TZID=America/Halifax:20201221T113000
DTSTAMP:20201116T032804
CREATED:20191106T215305Z
LAST-MODIFIED:20191106T215305Z
UID:20879-1608546600-1608550200@www.seafarers.org
SUMMARY:Wilmington
DESCRIPTION:
URL:https://www.seafarers.org/meeting/wilmington-26/
END:VEVENT
BEGIN:VEVENT
DTSTART;TZID=America/Halifax:20201224T103000
DTEND;TZID=America/Halifax:20201224T113000
DTSTAMP:20201116T032804
CREATED:20191106T215334Z
LAST-MODIFIED:20191106T215334Z
UID:20880-1608805800-1608809400@www.seafarers.org
SUMMARY:Guam
DESCRIPTION:
URL:https://www.seafarers.org/meeting/guam-26/
END:VEVENT
BEGIN:VEVENT
DTSTART;TZID=America/Halifax:20201228T103000
DTEND;TZID=America/Halifax:20201228T113000
DTSTAMP:20201116T032804
CREATED:20191106T215505Z
LAST-MODIFIED:20191106T215505Z
UID:20881-1609151400-1609155000@www.seafarers.org
SUMMARY:Tacoma
DESCRIPTION:Monday (Change created by Christmas Day Observance)
URL:https://www.seafarers.org/meeting/tacoma-26/
END:VEVENT
END:VCALENDAR